BEGIN:VCALENDAR
VERSION:2.0
PRODID:-//hacksw/handcal//NONSGML v1.0//EN
BEGIN:VEVENT
SUMMARY:Entrainement Equipe 1
UID:5d923899-0309-4608-af24-596ff1a6a9c4
DTSTART:20260311T180000Z
DTEND:20260311T200000Z
LOCATION:Localisation   
CATEGORIES:Entrainement
STATUS:
DESCRIPTION:Entrainement tactique pour l'equipe 1 ce soir au stade
 Municipal. 
URL;VALUE=URI:https://asc-st-medard-doulon.sportsregions.fr/evenements/2026/03/11/entrainement-equipe-1-2426464
END:VEVENT
END:VCALENDAR
