BEGIN:VCALENDAR
VERSION:2.0
PRODID:-//hacksw/handcal//NONSGML v1.0//EN
BEGIN:VEVENT
SUMMARY:Entrainement U12/U13
UID:24912daa-5821-4ece-8da8-80b7f4290a07
DTSTART:20260406T160000Z
DTEND:20260406T171500Z
LOCATION:Localisation   
CATEGORIES:Manifestation
STATUS:
URL;VALUE=URI:https://asc-st-medard-doulon.sportsregions.fr/evenements/2026/04/06/entrainement-u12u13-2427424
END:VEVENT
END:VCALENDAR
